BEGIN:VCALENDAR
VERSION:2.0
PRODID:-//Destry Wilborn - ECPv5.0.2.1//NONSGML v1.0//EN
CALSCALE:GREGORIAN
METHOD:PUBLISH
X-WR-CALNAME:Destry Wilborn
X-ORIGINAL-URL:https://destrywilborn.com
X-WR-CALDESC:Events for Destry Wilborn
BEGIN:VTIMEZONE
TZID:UTC
BEGIN:STANDARD
TZOFFSETFROM:+0000
TZOFFSETTO:+0000
TZNAME:UTC
DTSTART:20200101T000000
END:STANDARD
END:VTIMEZONE
BEGIN:VEVENT
DTSTART;TZID=UTC:20200824T080000
DTEND;TZID=UTC:20200830T170000
DTSTAMP:20260420T041326
CREATED:20200121T105013Z
LAST-MODIFIED:20200121T105013Z
UID:444-1598256000-1598806800@destrywilborn.com
SUMMARY:Men Of Purpose\, Burundi\, Africa
DESCRIPTION:Expanding MEN OF PURPOSE to the continent of Africa in the country of Bujumbura\, Burundi is evidence of the power of saying YES. \n
URL:https://destrywilborn.com/event/men-of-purpose-burundi-africa/
CATEGORIES:events
ATTACH;FMTTYPE=image/jpeg:https://destrywilborn.com/wp-content/uploads/2020/01/men-of-purpose-journey-to-self-discovery_processed_efee6c3af9fda705b901ebdc2c7524a0c346cd6fb0a2d86e5b798f0b36a60a73_logo.jpeg
END:VEVENT
END:VCALENDAR